Workbook
Name Année_courante: Instructions!$F$9
Name Comptes: 'Plan comptable'!$A$10:$A$26
Name Dépenses: 'Plan comptable'!$A$16:$A$26
Name Écritures: Écritures!$D$6:$E$172
Name ListeComptes: 'Plan comptable'!$A$11:$C$27
Name Organisation: Instructions!$H$2:$H$7
Name région: Instructions!$H$13:$H$21
Name Revenus: 'Plan comptable'!$A$11:$A$14

Sheet Instructions
B2: Avant de commencer :
H3: Conseil régional de l'AFPC
B4: Inscrire votre organisation : | E4: Conseil régional de l'AFPC | H4: Comité régional des femmes de l'AFPC
H5: Comité régional des groupes d'équité de l'AFPC
B6: Inscrire votre région : | E6: Mauricie | H6: Comité régional des jeunes de l'AFPC-Québec
B8: Inscrire la date de début de l'année financière : | F8: 46023
F9: =YEAR(F8) -> 2026
F10: =MONTH(F8) -> 1
F11: =DAY(F8) -> 1
F12: =F8+365 -> 46388
B14: Inscrire le solde de votre encaisse au début de la période : | F14: 19906.04 | H14: Estrie/Bois-Francs
H15: Laval/Laurentides/Lanaudière/Abitibi-Témiscamingue
B16: Inscrire l'avoir des membres au début de la période : | F16: 19906.04 | H16: Québec/Québec métro
H17: Saguenay/Lac St-Jean/Chibougamau/Chapais
B18: Inscrire le montant total de vos comptes à payer au début de la période : | F18: 0 | H18: Montréal
H19: Bas St-Laurent/Gaspésie/Iles-de-la-Madeleine/Côte-Nord
B20: Inscrire le montant total de vos frais payés d'avance au début de la période : | F20: 0 | H20: Mauricie
H21: Montérégie
B22: Afin de produire vos états financiers :
B24: Pour des états financiers interrimaires, inscrire les dates (AAAA-MM-JJ) ici :
E26: Début : | F26: 46023
E27: Fin : | F27: 46387
B29: Inscrire le montant total de vos comptes à payer : | F29: 0
B31: Inscrire le montant total de vos frais payés d'avance : | F31: 0
B33: Saisir les données de votre budget sur la feuille «Budget»
B35: Saisir vos opérations dans la feuille «Écritures»

Sheet Écritures
F1: =IF(ISBLANK(Instructions!E4),"",Instructions!E4) -> Conseil régional de l'AFPC
F2: =IF(ISBLANK(Instructions!E6),"",Instructions!E6) -> Mauricie
F3: =MID(CELL("nomfichier",B1),FIND("]",CELL("nomfichier",B1))+1,20) -> Écritures
A5: Date | B5: # Compte | D5: Compte | E5: Montant | G5: Chèque # | H5: Commentaire | I5: Encaisse
A6: 46023 | B6: =VLOOKUP(D6,ListeComptes,3,FALSE) -> #N/A | C6: =IF(AND(A6>=Instructions!F$26,A6<=Instructions!F$27),TRUE,FALSE) -> TRUE | D6: Solde d'ouverture | E6: =Instructions!F14 -> 19906.04 | I6: =E6 -> 19906.04
A7: 46023 | B7: =VLOOKUP(D7,ListeComptes,3,FALSE) -> #N/A | C7: =IF(AND(ISBLANK(Instructions!F$26),ISBLANK(Instructions!F$27)),IF(AND(A7>=Instructions!F$8,A7<=Instructions!F$12),TRUE,FALSE),IF(AND(ISBLANK(Instructions!F$26),A7<=Instructions!F$27,A7>=Instructions!F$8),TRUE,IF(AND(ISBLANK(Instructions!F$27),A7>=Instructions!F$26,A7<=Instructions!F$12),TRUE,IF(AND(A7>=Instructions!F$26,A7<=Instructions!F$27),TRUE,FALSE)))) -> TRUE | D7: ="Dépenses effectuées en "&Année_courante -> Dépenses effectuées en 2026 | E7: =Instructions!F18 -> 0 | H7: Régularisation d'ouverture | I7: =IF(ISERROR(VLOOKUP(D7,Revenus,1,FALSE)),IF(ISERROR(VLOOKUP(D7,Dépenses,1,FALSE)),"",(I6-E7)),(I6+E7))
A8: 46023 | B8: =VLOOKUP(D8,ListeComptes,3,FALSE) -> #N/A | C8: =IF(AND(ISBLANK(Instructions!F$26),ISBLANK(Instructions!F$27)),IF(AND(A8>=Instructions!F$8,A8<=Instructions!F$12),TRUE,FALSE),IF(AND(ISBLANK(Instructions!F$26),A8<=Instructions!F$27,A8>=Instructions!F$8),TRUE,IF(AND(ISBLANK(Instructions!F$27),A8>=Instructions!F$26,A8<=Instructions!F$12),TRUE,IF(AND(A8>=Instructions!F$26,A8<=Instructions!F$27),TRUE,FALSE)))) -> TRUE | D8: ="Frais payés en "&Année_courante -> Frais payés en 2026 | E8: =Instructions!F20 -> 0 | H8: Régularisation d'ouverture | I8: =IF(ISERROR(VLOOKUP(D8,Revenus,1,FALSE)),IF(ISERROR(VLOOKUP(D8,Dépenses,1,FALSE)),"",(I7-E8)),(I7+E8))
A9: 46023 | B9: =VLOOKUP(D9,ListeComptes,3,FALSE) -> 111 | C9: =IF(AND(ISBLANK(Instructions!F$26),ISBLANK(Instructions!F$27)),IF(AND(A9>=Instructions!F$8,A9<=Instructions!F$12),TRUE,FALSE),IF(AND(ISBLANK(Instructions!F$26),A9<=Instructions!F$27,A9>=Instructions!F$8),TRUE,IF(AND(ISBLANK(Instructions!F$27),A9>=Instructions!F$26,A9<=Instructions!F$12),TRUE,IF(AND(A9>=Instructions!F$26,A9<=Instructions!F$27),TRUE,FALSE)))) -> TRUE | D9: Intérêt Banque | E9: 44.35 | H9: Intérêts | I9: =IF(ISERROR(VLOOKUP(D9,Revenus,1,FALSE)),IF(ISERROR(VLOOKUP(D9,Dépenses,1,FALSE)),"",(I6-E9)),(I6+E9)) -> 19950.39
B10: =VLOOKUP(D10,ListeComptes,3,FALSE) -> 219 | C10: =IF(AND(ISBLANK(Instructions!F$26),ISBLANK(Instructions!F$27)),IF(AND(A10>=Instructions!F$8,A10<=Instructions!F$12),TRUE,FALSE),IF(AND(ISBLANK(Instructions!F$26),A10<=Instructions!F$27,A10>=Instructions!F$8),TRUE,IF(AND(ISBLANK(Instructions!F$27),A10>=Instructions!F$26,A10<=Instructions!F$12),TRUE,IF(AND(A10>=Instructions!F$26,A10<=Instructions!F$27),TRUE,FALSE)))) -> FALSE | D10: Autres dépenses | I10: =IF(ISERROR(VLOOKUP(D10,Revenus,1,FALSE)),IF(ISERROR(VLOOKUP(D10,Dépenses,1,FALSE)),"",(I9-E10)),(I9+E10)) -> 19950.39
B11: =VLOOKUP(D11,ListeComptes,3,FALSE) -> #N/A | C11: =IF(AND(ISBLANK(Instructions!F$26),ISBLANK(Instructions!F$27)),IF(AND(A11>=Instructions!F$8,A11<=Instructions!F$12),TRUE,FALSE),IF(AND(ISBLANK(Instructions!F$26),A11<=Instructions!F$27,A11>=Instructions!F$8),TRUE,IF(AND(ISBLANK(Instructions!F$27),A11>=Instructions!F$26,A11<=Instructions!F$12),TRUE,IF(AND(A11>=Instructions!F$26,A11<=Instructions!F$27),TRUE,FALSE)))) -> FALSE | I11: =IF(ISERROR(VLOOKUP(D11,Revenus,1,FALSE)),IF(ISERROR(VLOOKUP(D11,Dépenses,1,FALSE)),"",(I10-E11)),(I10+E11))
A12: 46055 | B12: =VLOOKUP(D12,ListeComptes,3,FALSE) -> 111 | C12: =IF(AND(ISBLANK(Instructions!F$26),ISBLANK(Instructions!F$27)),IF(AND(A12>=Instructions!F$8,A12<=Instructions!F$12),TRUE,FALSE),IF(AND(ISBLANK(Instructions!F$26),A12<=Instructions!F$27,A12>=Instructions!F$8),TRUE,IF(AND(ISBLANK(Instructions!F$27),A12>=Instructions!F$26,A12<=Instructions!F$12),TRUE,IF(AND(A12>=Instructions!F$26,A12<=Instructions!F$27),TRUE,FALSE)))) -> TRUE | D12: Intérêt Banque | E12: 38.12 | H12: intérêts - solde exédentaire | I12: =IF(OR(D12="",E12=""),I10,I10+IF(COUNTIF(Dépenses,D12),-E12,E12)) -> 19988.51
A13: 46059 | B13: =VLOOKUP(D13,ListeComptes,3,FALSE) -> 212 | C13: =IF(AND(ISBLANK(Instructions!F$26),ISBLANK(Instructions!F$27)),IF(AND(A13>=Instructions!F$8,A13<=Instructions!F$12),TRUE,FALSE),IF(AND(ISBLANK(Instructions!F$26),A13<=Instructions!F$27,A13>=Instructions!F$8),TRUE,IF(AND(ISBLANK(Instructions!F$27),A13>=Instructions!F$26,A13<=Instructions!F$12),TRUE,IF(AND(A13>=Instructions!F$26,A13<=Instructions!F$27),TRUE,FALSE)))) -> TRUE | D13: Conférences et congrès | E13: 1000 | H13: Compte dépense Mathieu - 2025 | I13: =IF(OR(D13="",E13=""),"",I12 +IF(COUNTIF(Dépenses,D13)>0,-E13,E13)) -> 18988.51
A14: 46062 | B14: =VLOOKUP(D14,ListeComptes,3,FALSE) -> 212 | C14: =IF(AND(ISBLANK(Instructions!F$26),ISBLANK(Instructions!F$27)),IF(AND(A14>=Instructions!F$8,A14<=Instructions!F$12),TRUE,FALSE),IF(AND(ISBLANK(Instructions!F$26),A14<=Instructions!F$27,A14>=Instructions!F$8),TRUE,IF(AND(ISBLANK(Instructions!F$27),A14>=Instructions!F$26,A14<=Instructions!F$12),TRUE,IF(AND(A14>=Instructions!F$26,A14<=Instructions!F$27),TRUE,FALSE)))) -> TRUE | D14: Conférences et congrès | E14: 249 | H14: Compte dépense Mathieu - 2025 | I14: =IF(OR(D14="",E14=""),"",I13 +IF(COUNTIF(Dépenses,D14)>0,-E14,E14)) -> 18739.51
A15: 46080 | B15: =VLOOKUP(D15,ListeComptes,3,FALSE) -> 219 | C15: =IF(AND(ISBLANK(Instructions!F$26),ISBLANK(Instructions!F$27)),IF(AND(A15>=Instructions!F$8,A15<=Instructions!F$12),TRUE,FALSE),IF(AND(ISBLANK(Instructions!F$26),A15<=Instructions!F$27,A15>=Instructions!F$8),TRUE,IF(AND(ISBLANK(Instructions!F$27),A15>=Instructions!F$26,A15<=Instructions!F$12),TRUE,IF(AND(A15>=Instructions!F$26,A15<=Instructions!F$27),TRUE,FALSE)))) -> TRUE | D15: Autres dépenses | E15: 50 | H15: paiement visa | I15: =IF(OR(D15="",E15=""),"",I14 +IF(COUNTIF(Dépenses,D15)>0,-E15,E15)) -> 18689.51
A16: 46056 | B16: =VLOOKUP(D16,ListeComptes,3,FALSE) -> 111 | D16: Intérêt Banque | E16: 32.77 | H16: intérêts - solde exédentaire | I16: =IF(OR(D16="",E16=""),"",I15 +IF(COUNTIF(Dépenses,D16)>0,-E16,E16)) -> 18722.28
A17: 46097 | B17: =VLOOKUP(D17,ListeComptes,3,FALSE) -> 112 | C17: =IF(AND(ISBLANK(Instructions!F$26),ISBLANK(Instructions!F$27)),IF(AND(A17>=Instructions!F$8,A17<=Instructions!F$12),TRUE,FALSE),IF(AND(ISBLANK(Instructions!F$26),A17<=Instructions!F$27,A17>=Instructions!F$8),TRUE,IF(AND(ISBLANK(Instructions!F$27),A17>=Instructions!F$26,A17<=Instructions!F$12),TRUE,IF(AND(A17>=Instructions!F$26,A17<=Instructions!F$27),TRUE,FALSE)))) -> TRUE | D17: Autres revenus | E17: 250 | H17: virement CRF-AFPC QC Don femme beauté | I17: =IF(OR(D17="",E17=""),"",I16 +IF(COUNTIF(Dépenses,D17)>0,-E17,E17)) -> 18972.28
A18: 46108 | B18: =VLOOKUP(D18,ListeComptes,3,FALSE) -> 219 | C18: =IF(AND(ISBLANK(Instructions!F$26),ISBLANK(Instructions!F$27)),IF(AND(A18>=Instructions!F$8,A18<=Instructions!F$12),TRUE,FALSE),IF(AND(ISBLANK(Instructions!F$26),A18<=Instructions!F$27,A18>=Instructions!F$8),TRUE,IF(AND(ISBLANK(Instructions!F$27),A18>=Instructions!F$26,A18<=Instructions!F$12),TRUE,IF(AND(A18>=Instructions!F$26,A18<=Instructions!F$27),TRUE,FALSE)))) -> TRUE | D18: Autres dépenses | E18: 10.54 | H18: paiement visa | I18: =IF(OR(D18="",E18=""),"",I17 +IF(COUNTIF(Dépenses,D18)>0,-E18,E18)) -> 18961.74
A19: 46113 | B19: =VLOOKUP(D19,ListeComptes,3,FALSE) -> 111 | C19: =IF(AND(ISBLANK(Instructions!F$26),ISBLANK(Instructions!F$27)),IF(AND(A19>=Instructions!F$8,A19<=Instructions!F$12),TRUE,FALSE),IF(AND(ISBLANK(Instructions!F$26),A19<=Instructions!F$27,A19>=Instructions!F$8),TRUE,IF(AND(ISBLANK(Instructions!F$27),A19>=Instructions!F$26,A19<=Instructions!F$12),TRUE,IF(AND(A19>=Instructions!F$26,A19<=Instructions!F$27),TRUE,FALSE)))) -> TRUE | D19: Intérêt Banque | E19: 36.02 | H19: intérêts - solde exédentaire | I19: =IF(OR(D19="",E19=""),"",I18 +IF(COUNTIF(Dépenses,D19)>0,-E19,E19)) -> 18997.76
A20: 46132 | B20: =VLOOKUP(D20,ListeComptes,3,FALSE) -> 210 | C20: =IF(AND(ISBLANK(Instructions!F$26),ISBLANK(Instructions!F$27)),IF(AND(A20>=Instructions!F$8,A20<=Instructions!F$12),TRUE,FALSE),IF(AND(ISBLANK(Instructions!F$26),A20<=Instructions!F$27,A20>=Instructions!F$8),TRUE,IF(AND(ISBLANK(Instructions!F$27),A20>=Instructions!F$26,A20<=Instructions!F$12),TRUE,IF(AND(A20>=Instructions!F$26,A20<=Instructions!F$27),TRUE,FALSE)))) -> TRUE | D20: Dépenses réunions | E20: 98.88 | H20: Facture rest. Ti-Coq | I20: =IF(OR(D20="",E20=""),"",I19 +IF(COUNTIF(Dépenses,D20)>0,-E20,E20)) -> 18898.88
A21: 46132 | B21: =VLOOKUP(D21,ListeComptes,3,FALSE) -> 217 | C21: =IF(AND(ISBLANK(Instructions!F$26),ISBLANK(Instructions!F$27)),IF(AND(A21>=Instructions!F$8,A21<=Instructions!F$12),TRUE,FALSE),IF(AND(ISBLANK(Instructions!F$26),A21<=Instructions!F$27,A21>=Instructions!F$8),TRUE,IF(AND(ISBLANK(Instructions!F$27),A21>=Instructions!F$26,A21<=Instructions!F$12),TRUE,IF(AND(A21>=Instructions!F$26,A21<=Instructions!F$27),TRUE,FALSE)))) -> TRUE | D21: Dons | E21: 1023.37 | H21: collecte femme beauté | I21: =IF(OR(D21="",E21=""),"",I20 +IF(COUNTIF(Dépenses,D21)>0,-E21,E21)) -> 17875.51
A22: 46136 | B22: =VLOOKUP(D22,ListeComptes,3,FALSE) -> 112 | C22: =IF(AND(ISBLANK(Instructions!F$26),ISBLANK(Instructions!F$27)),IF(AND(A22>=Instructions!F$8,A22<=Instructions!F$12),TRUE,FALSE),IF(AND(ISBLANK(Instructions!F$26),A22<=Instructions!F$27,A22>=Instructions!F$8),TRUE,IF(AND(ISBLANK(Instructions!F$27),A22>=Instructions!F$26,A22<=Instructions!F$12),TRUE,IF(AND(A22>=Instructions!F$26,A22<=Instructions!F$27),TRUE,FALSE)))) -> TRUE | D22: Autres revenus | E22: 499.54 | H22: SEI 10005 - femme beauté | I22: =IF(OR(D22="",E22=""),"",I21 +IF(COUNTIF(Dépenses,D22)>0,-E22,E22)) -> 18375.05
A23: 46143 | B23: =VLOOKUP(D23,ListeComptes,3,FALSE) -> 111 | C23: =IF(AND(ISBLANK(Instructions!F$26),ISBLANK(Instructions!F$27)),IF(AND(A23>=Instructions!F$8,A23<=Instructions!F$12),TRUE,FALSE),IF(AND(ISBLANK(Instructions!F$26),A23<=Instructions!F$27,A23>=Instructions!F$8),TRUE,IF(AND(ISBLANK(Instructions!F$27),A23>=Instructions!F$26,A23<=Instructions!F$12),TRUE,IF(AND(A23>=Instructions!F$26,A23<=Instructions!F$27),TRUE,FALSE)))) -> TRUE | D23: Intérêt Banque | E23: 34.59 | H23: intérêts - solde exédentaire | I23: =IF(OR(D23="",E23=""),"",I22 +IF(COUNTIF(Dépenses,D23)>0,-E23,E23)) -> 18409.64
A24: 46174 | B24: =VLOOKUP(D24,ListeComptes,3,FALSE) -> 111 | C24: =IF(AND(ISBLANK(Instructions!F$26),ISBLANK(Instructions!F$27)),IF(AND(A24>=Instructions!F$8,A24<=Instructions!F$12),TRUE,FALSE),IF(AND(ISBLANK(Instructions!F$26),A24<=Instructions!F$27,A24>=Instructions!F$8),TRUE,IF(AND(ISBLANK(Instructions!F$27),A24>=Instructions!F$26,A24<=Instructions!F$12),TRUE,IF(AND(A24>=Instructions!F$26,A24<=Instructions!F$27),TRUE,FALSE)))) -> TRUE | D24: Intérêt Banque | E24: 35.18 | H24: intérêts - solde exédentaire | I24: =IF(OR(D24="",E24=""),"",I23 +IF(COUNTIF(Dépenses,D24)>0,-E24,E24)) -> 18444.82
A25: 46183 | B25: =VLOOKUP(D25,ListeComptes,3,FALSE) -> 111 | C25: =IF(AND(ISBLANK(Instructions!F$26),ISBLANK(Instructions!F$27)),IF(AND(A25>=Instructions!F$8,A25<=Instructions!F$12),TRUE,FALSE),IF(AND(ISBLANK(Instructions!F$26),A25<=Instructions!F$27,A25>=Instructions!F$8),TRUE,IF(AND(ISBLANK(Instructions!F$27),A25>=Instructions!F$26,A25<=Instructions!F$12),TRUE,IF(AND(A25>=Instructions!F$26,A25<=Instructions!F$27),TRUE,FALSE)))) -> TRUE | D25: Intérêt Banque | E25: 15.84 | H25: Ristourne | I25: =IF(OR(D25="",E25=""),"",I24 +IF(COUNTIF(Dépenses,D25)>0,-E25,E25)) -> 18460.66
A26: 46184 | B26: =VLOOKUP(D26,ListeComptes,3,FALSE) -> 219 | C26: =IF(AND(ISBLANK(Instructions!F$26),ISBLANK(Instructions!F$27)),IF(AND(A26>=Instructions!F$8,A26<=Instructions!F$12),TRUE,FALSE),IF(AND(ISBLANK(Instructions!F$26),A26<=Instructions!F$27,A26>=Instructions!F$8),TRUE,IF(AND(ISBLANK(Instructions!F$27),A26>=Instructions!F$26,A26<=Instructions!F$12),TRUE,IF(AND(A26>=Instructions!F$26,A26<=Instructions!F$27),TRUE,FALSE)))) -> TRUE | D26: Autres dépenses | E26: 499.54 | H26: Retour subv. Déjà payé à Sabrina Le 2026-04-20 | I26: =IF(OR(D26="",E26=""),"",I25 +IF(COUNTIF(Dépenses,D26)>0,-E26,E26)) -> 17961.12
A27: 46184 | B27: =VLOOKUP(D27,ListeComptes,3,FALSE) -> 210 | C27: =IF(AND(ISBLANK(Instructions!F$26),ISBLANK(Instructions!F$27)),IF(AND(A27>=Instructions!F$8,A27<=Instructions!F$12),TRUE,FALSE),IF(AND(ISBLANK(Instructions!F$26),A27<=Instructions!F$27,A27>=Instructions!F$8),TRUE,IF(AND(ISBLANK(Instructions!F$27),A27>=Instructions!F$26,A27<=Instructions!F$12),TRUE,IF(AND(A27>=Instructions!F$26,A27<=Instructions!F$27),TRUE,FALSE)))) -> TRUE | D27: Dépenses réunions | E27: 150 | H27: FTQ location salle factures: 2216 et 2174 | I27: =IF(OR(D27="",E27=""),"",I26 +IF(COUNTIF(Dépenses,D27)>0,-E27,E27)) -> 17811.12
A28: 46199 | D28: Dépenses réunions | E28: 348.88 | H28: Facture réunion 18 juin Olympic | I28: =IF(OR(D28="",E28=""),"",I27 +IF(COUNTIF(Dépenses,D28)>0,-E28,E28)) -> 17462.24
A29: 46199 | B29: =VLOOKUP(D29,ListeComptes,3,FALSE) -> 210 | C29: =IF(AND(ISBLANK(Instructions!F$26),ISBLANK(Instructions!F$27)),IF(AND(A29>=Instructions!F$8,A29<=Instructions!F$12),TRUE,FALSE),IF(AND(ISBLANK(Instructions!F$26),A29<=Instructions!F$27,A29>=Instructions!F$8),TRUE,IF(AND(ISBLANK(Instructions!F$27),A29>=Instructions!F$26,A29<=Instructions!F$12),TRUE,IF(AND(A29>=Instructions!F$26,A29<=Instructions!F$27),TRUE,FALSE)))) -> TRUE | D29: Dépenses réunions | E29: 75 | H29: FTQ Mauricie Facture 2292 | I29: =IF(OR(D29="",E29=""),"",I28 +IF(COUNTIF(Dépenses,D29)>0,-E29,E29)) -> 17387.24
A30: 46199 | B30: =VLOOKUP(D30,ListeComptes,3,FALSE) -> 210 | C30: =IF(AND(ISBLANK(Instructions!F$26),ISBLANK(Instructions!F$27)),IF(AND(A30>=Instructions!F$8,A30<=Instructions!F$12),TRUE,FALSE),IF(AND(ISBLANK(Instructions!F$26),A30<=Instructions!F$27,A30>=Instructions!F$8),TRUE,IF(AND(ISBLANK(Instructions!F$27),A30>=Instructions!F$26,A30<=Instructions!F$12),TRUE,IF(AND(A30>=Instructions!F$26,A30<=Instructions!F$27),TRUE,FALSE)))) -> TRUE | D30: Dépenses réunions | E30: 65 | H30: 2026-06-26-02 paiement UCET (KM) | I30: =IF(OR(D30="",E30=""),"",I29 +IF(COUNTIF(Dépenses,D30)>0,-E30,E30)) -> 17322.24
A31: 46199 | B31: =VLOOKUP(D31,ListeComptes,3,FALSE) -> 217 | C31: =IF(AND(ISBLANK(Instructions!F$26),ISBLANK(Instructions!F$27)),IF(AND(A31>=Instructions!F$8,A31<=Instructions!F$12),TRUE,FALSE),IF(AND(ISBLANK(Instructions!F$26),A31<=Instructions!F$27,A31>=Instructions!F$8),TRUE,IF(AND(ISBLANK(Instructions!F$27),A31>=Instructions!F$26,A31<=Instructions!F$12),TRUE,IF(AND(A31>=Instructions!F$26,A31<=Instructions!F$27),TRUE,FALSE)))) -> TRUE | D31: Dons | E31: 500 | H31: Les Demoiselles résolution réunion 2026-04-30 | I31: =IF(OR(D31="",E31=""),"",I30 +IF(COUNTIF(Dépenses,D31)>0,-E31,E31)) -> 16822.24
A32: 46204 | B32: =VLOOKUP(D32,ListeComptes,3,FALSE) -> 111 | C32: =IF(AND(ISBLANK(Instructions!F$26),ISBLANK(Instructions!F$27)),IF(AND(A32>=Instructions!F$8,A32<=Instructions!F$12),TRUE,FALSE),IF(AND(ISBLANK(Instructions!F$26),A32<=Instructions!F$27,A32>=Instructions!F$8),TRUE,IF(AND(ISBLANK(Instructions!F$27),A32>=Instructions!F$26,A32<=Instructions!F$12),TRUE,IF(AND(A32>=Instructions!F$26,A32<=Instructions!F$27),TRUE,FALSE)))) -> TRUE | D32: Intérêt Banque | E32: 33.03 | H32: Solde excédentaire | I32: =IF(OR(D32="",E32=""),"",I31 +IF(COUNTIF(Dépenses,D32)>0,-E32,E32)) -> 16855.27
A33: 46237 | B33: =VLOOKUP(D33,ListeComptes,3,FALSE) -> 111 | C33: =IF(AND(ISBLANK(Instructions!F$26),ISBLANK(Instructions!F$27)),IF(AND(A33>=Instructions!F$8,A33<=Instructions!F$12),TRUE,FALSE),IF(AND(ISBLANK(Instructions!F$26),A33<=Instructions!F$27,A33>=Instructions!F$8),TRUE,IF(AND(ISBLANK(Instructions!F$27),A33>=Instructions!F$26,A33<=Instructions!F$12),TRUE,IF(AND(A33>=Instructions!F$26,A33<=Instructions!F$27),TRUE,FALSE)))) -> TRUE | D33: Intérêt Banque | E33: 32.21 | H33: Solde excédentaire | I33: =IF(OR(D33="",E33=""),"",I32 +IF(COUNTIF(Dépenses,D33)>0,-E33,E33)) -> 16887.48
A34: 46239 | B34: =VLOOKUP(D34,ListeComptes,3,FALSE) -> 218 | C34: =IF(AND(ISBLANK(Instructions!F$26),ISBLANK(Instructions!F$27)),IF(AND(A34>=Instructions!F$8,A34<=Instructions!F$12),TRUE,FALSE),IF(AND(ISBLANK(Instructions!F$26),A34<=Instructions!F$27,A34>=Instructions!F$8),TRUE,IF(AND(ISBLANK(Instructions!F$27),A34>=Instructions!F$26,A34<=Instructions!F$12),TRUE,IF(AND(A34>=Instructions!F$26,A34<=Instructions!F$27),TRUE,FALSE)))) -> TRUE | D34: Matériel promotionnel | E34: 339.18 | H34: Fond FTQ 100-FAC-2026-0 Roll-up | I34: =IF(OR(D34="",E34=""),"",I33 +IF(COUNTIF(Dépenses,D34)>0,-E34,E34)) -> 16548.3
A35: 46239 | B35: =VLOOKUP(D35,ListeComptes,3,FALSE) -> 212 | C35: =IF(AND(ISBLANK(Instructions!F$26),ISBLANK(Instructions!F$27)),IF(AND(A35>=Instructions!F$8,A35<=Instructions!F$12),TRUE,FALSE),IF(AND(ISBLANK(Instructions!F$26),A35<=Instructions!F$27,A35>=Instructions!F$8),TRUE,IF(AND(ISBLANK(Instructions!F$27),A35>=Instructions!F$26,A35<=Instructions!F$12),TRUE,IF(AND(A35>=Instructions!F$26,A35<=Instructions!F$27),TRUE,FALSE)))) -> TRUE | D35: Conférences et congrès | E35: 5.32 | H35: 10005 Congrès FTQ - Dépenses Mathieu DAS | I35: =IF(OR(D35="",E35=""),"",I34 +IF(COUNTIF(Dépenses,D35)>0,-E35,E35)) -> 16542.98
A36: 46258 | B36: =VLOOKUP(D36,ListeComptes,3,FALSE) -> 112 | C36: =IF(AND(ISBLANK(Instructions!F$26),ISBLANK(Instructions!F$27)),IF(AND(A36>=Instructions!F$8,A36<=Instructions!F$12),TRUE,FALSE),IF(AND(ISBLANK(Instructions!F$26),A36<=Instructions!F$27,A36>=Instructions!F$8),TRUE,IF(AND(ISBLANK(Instructions!F$27),A36>=Instructions!F$26,A36<=Instructions!F$12),TRUE,IF(AND(A36>=Instructions!F$26,A36<=Instructions!F$27),TRUE,FALSE)))) -> TRUE | D36: Autres revenus | E36: 60 | H36: Dépôt au comptoir - Remb. Frais carte crédit | I36: =IF(OR(D36="",E36=""),"",I35 +IF(COUNTIF(Dépenses,D36)>0,-E36,E36)) -> 16602.98
A37: 46266 | B37: =VLOOKUP(D37,ListeComptes,3,FALSE) -> 111 | C37: =IF(AND(ISBLANK(Instructions!F$26),ISBLANK(Instructions!F$27)),IF(AND(A37>=Instructions!F$8,A37<=Instructions!F$12),TRUE,FALSE),IF(AND(ISBLANK(Instructions!F$26),A37<=Instructions!F$27,A37>=Instructions!F$8),TRUE,IF(AND(ISBLANK(Instructions!F$27),A37>=Instructions!F$26,A37<=Instructions!F$12),TRUE,IF(AND(A37>=Instructions!F$26,A37<=Instructions!F$27),TRUE,FALSE)))) -> TRUE | D37: Intérêt Banque | E37: 31.72 | H37: Solde excédentaire | I37: =IF(OR(D37="",E37=""),"",I36 +IF(COUNTIF(Dépenses,D37)>0,-E37,E37)) -> 16634.7
B38: =VLOOKUP(D38,ListeComptes,3,FALSE) -> #N/A | C38: =IF(AND(ISBLANK(Instructions!F$26),ISBLANK(Instructions!F$27)),IF(AND(A38>=Instructions!F$8,A38<=Instructions!F$12),TRUE,FALSE),IF(AND(ISBLANK(Instructions!F$26),A38<=Instructions!F$27,A38>=Instructions!F$8),TRUE,IF(AND(ISBLANK(Instructions!F$27),A38>=Instructions!F$26,A38<=Instructions!F$12),TRUE,IF(AND(A38>=Instructions!F$26,A38<=Instructions!F$27),TRUE,FALSE)))) -> FALSE | I38: =IF(OR(D38="",E38=""),"",I37 +IF(COUNTIF(Dépenses,D38)>0,-E38,E38))
B39: =VLOOKUP(D39,ListeComptes,3,FALSE) -> #N/A | C39: =IF(AND(ISBLANK(Instructions!F$26),ISBLANK(Instructions!F$27)),IF(AND(A39>=Instructions!F$8,A39<=Instructions!F$12),TRUE,FALSE),IF(AND(ISBLANK(Instructions!F$26),A39<=Instructions!F$27,A39>=Instructions!F$8),TRUE,IF(AND(ISBLANK(Instructions!F$27),A39>=Instructions!F$26,A39<=Instructions!F$12),TRUE,IF(AND(A39>=Instructions!F$26,A39<=Instructions!F$27),TRUE,FALSE)))) -> FALSE | I39: =IF(OR(D39="",E39=""),"",I38 +IF(COUNTIF(Dépenses,D39)>0,-E39,E39))
B40: =VLOOKUP(D40,ListeComptes,3,FALSE) -> #N/A | C40: =IF(AND(ISBLANK(Instructions!F$26),ISBLANK(Instructions!F$27)),IF(AND(A40>=Instructions!F$8,A40<=Instructions!F$12),TRUE,FALSE),IF(AND(ISBLANK(Instructions!F$26),A40<=Instructions!F$27,A40>=Instructions!F$8),TRUE,IF(AND(ISBLANK(Instructions!F$27),A40>=Instructions!F$26,A40<=Instructions!F$12),TRUE,IF(AND(A40>=Instructions!F$26,A40<=Instructions!F$27),TRUE,FALSE)))) -> FALSE | I40: =IF(OR(D40="",E40=""),"",I39 +IF(COUNTIF(Dépenses,D40)>0,-E40,E40))
B41: =VLOOKUP(D41,ListeComptes,3,FALSE) -> #N/A | C41: =IF(AND(ISBLANK(Instructions!F$26),ISBLANK(Instructions!F$27)),IF(AND(A41>=Instructions!F$8,A41<=Instructions!F$12),TRUE,FALSE),IF(AND(ISBLANK(Instructions!F$26),A41<=Instructions!F$27,A41>=Instructions!F$8),TRUE,IF(AND(ISBLANK(Instructions!F$27),A41>=Instructions!F$26,A41<=Instructions!F$12),TRUE,IF(AND(A41>=Instructions!F$26,A41<=Instructions!F$27),TRUE,FALSE)))) -> FALSE | I41: =IF(OR(D41="",E41=""),"",I40 +IF(COUNTIF(Dépenses,D41)>0,-E41,E41))
...

Sheet Budget
B1: =IF(ISBLANK(Instructions!E4),"",Instructions!E4) -> Conseil régional de l'AFPC
B2: =IF(ISBLANK(Instructions!E6),"",Instructions!E6) -> Mauricie
B3: =MID(CELL("nomfichier",A1),FIND("]",CELL("nomfichier",A1))+1,20)&" "&YEAR(Instructions!F8) -> Budget 2026
C8: =D8-1 -> 2024 | D8: =E8-1 -> 2025 | E8: =Année_courante -> 2026
C9: BUDGET | D9: BUDGET | E9: BUDGET
A10: REVENUS
A12: =IF(ISBLANK('Plan comptable'!A11),"",'Plan comptable'!A11) -> Financement régulier - AFPC-Québec | C12: 5469 | D12: 5000 | E12: 5000
A13: =IF(ISBLANK('Plan comptable'!A12),"",'Plan comptable'!A12) -> Intérêt Banque | C13: 43.14 | D13: 50 | E13: 1000
A14: =IF(ISBLANK('Plan comptable'!A13),"",'Plan comptable'!A13) -> Autres revenus
A15: =IF(ISBLANK('Plan comptable'!A14),"",'Plan comptable'!A14)
A17: TOTAL DES REVENUS | C17: =SUM(C12:C16) -> 5512.14 | D17: =SUM(D12:D16) -> 5050 | E17: =SUM(E12:E16) -> 6000
A20: DÉPENSES
A22: =IF(ISBLANK('Plan comptable'!A16),"",'Plan comptable'!A16) -> Dépenses réunions | C22: 452.29 | D22: 1250 | E22: 1250
A23: =IF(ISBLANK('Plan comptable'!A17),"",'Plan comptable'!A17) -> Action politique | D23: 1500 | E23: 950
A24: =IF(ISBLANK('Plan comptable'!A18),"",'Plan comptable'!A18) -> Conférences et congrès | C24: 150 | D24: 600 | E24: 1000
A25: =IF(ISBLANK('Plan comptable'!A19),"",'Plan comptable'!A19) -> Fournitures de bureau | D25: 250 | E25: 0
A26: =IF(ISBLANK('Plan comptable'!A20),"",'Plan comptable'!A20) -> Frais de déplacement | E26: 300
A27: =IF(ISBLANK('Plan comptable'!A21),"",'Plan comptable'!A21) -> Frais de location | C27: 120 | D27: 360 | E27: 500
A28: =IF(ISBLANK('Plan comptable'!A22),"",'Plan comptable'!A22) -> Frais d'adhésion - organismes régionaux | E28: 0
A29: =IF(ISBLANK('Plan comptable'!A23),"",'Plan comptable'!A23) -> Dons | E29: 1000
A30: =IF(ISBLANK('Plan comptable'!A24),"",'Plan comptable'!A24) -> Matériel promotionnel | E30: 1000
A31: =IF(ISBLANK('Plan comptable'!A25),"",'Plan comptable'!A25) -> Autres dépenses | C31: 546.25 | D31: 530 | E31: 0
A32: =IF(ISBLANK('Plan comptable'!A28),"",'Plan comptable'!A28)
A34: TOTAL DES DÉPENSES | C34: =SUM(C22:C33) -> 1268.54 | D34: =SUM(D22:D33) -> 4490 | E34: =SUM(E22:E33) -> 6000
A37: BÉNÉFICE (PERTE) NET | C37: =C17-C34 -> 4243.6 | D37: =D17-D34 -> 560 | E37: =E17-E34 -> 0

Sheet État des résultats
B1: =IF(ISBLANK(Instructions!E4),"",Instructions!E4) -> Conseil régional de l'AFPC
B2: =IF(ISBLANK(Instructions!E6),"",Instructions!E6) -> Mauricie
B3: =MID(CELL("nomfichier",A1),FIND("]",CELL("nomfichier",A1))+1,20) -> État des résultats
B4: ="Pour la période du "&IF(ISBLANK(Instructions!F26),TEXT(Instructions!F8,"jj mmmmmmmmmmmmm aaaa"),TEXT(Instructions!F26,"jj mmmmmmmmmmmmmm aaaa"))&" au "&IF(ISBLANK(Instructions!F27),TEXT(Instructions!F8+(IF(DAY(EOMONTH(DATE((YEAR(Instructions!F8)),2,1),0))=29,365,364)),"jj mmmmmmmmmmmmmm aaaa"),TEXT(Instructions!F27,"jj mmmmmmmmmmmmm aaaa")) -> Pour la période du 01 janvier 2026 au 31 décembre 2026
C7: =Année_courante -> 2026 | E7: =Année_courante -> 2026
C8: BUDGET | E8: RÉEL
A9: REVENUS
A11: =IF(ISBLANK('Plan comptable'!A11),"",'Plan comptable'!A11) -> Financement régulier - AFPC-Québec | C11: =IF(ISBLANK(Budget!E12),"",Budget!E12) -> 5000 | E11: =SUMIFS(Écritures!E6:E172,Écritures!C6:C172,TRUE,Écritures!B6:B172,'Plan comptable'!C11) -> 0
A12: =IF(ISBLANK('Plan comptable'!A12),"",'Plan comptable'!A12) -> Intérêt Banque | C12: =IF(ISBLANK(Budget!E13),"",Budget!E13) -> 1000 | E12: =SUMIF(Écritures!B$6:B$172,'Plan comptable'!C12,Écritures!E$6:E$172) -> 333.83
A13: =IF(ISBLANK('Plan comptable'!A13),"",'Plan comptable'!A13) -> Autres revenus | C13: =IF(ISBLANK(Budget!E14),"",Budget!E14) | E13: =SUMIF(Écritures!B$6:B$172,'Plan comptable'!C13,Écritures!E$6:E$172) -> 809.54
A14: =IF(ISBLANK('Plan comptable'!A14),"",'Plan comptable'!A14) | C14: =IF(ISBLANK(Budget!E15),"",Budget!E15)
A15: =IF(ISBLANK('Plan comptable'!A14),"",'Plan comptable'!A14)
A16: TOTAL DES REVENUS | C16: =SUM(C11:C15) -> 6000 | E16: =SUM(E11:E15) -> 1143.37
A19: DÉPENSES
A21: =IF(ISBLANK('Plan comptable'!A16),"",'Plan comptable'!A16) -> Dépenses réunions | C21: =IF(ISBLANK(Budget!E22),"",Budget!E22) -> 1250 | E21: =SUMIF(Écritures!B$6:B$172,'Plan comptable'!C16,Écritures!E$6:E$172) -> 388.88
A22: =IF(ISBLANK('Plan comptable'!A17),"",'Plan comptable'!A17) -> Action politique | C22: =IF(ISBLANK(Budget!E23),"",Budget!E23) -> 950 | E22: =SUMIF(Écritures!B$6:B$172,'Plan comptable'!C17,Écritures!E$6:E$172) -> 0
A23: =IF(ISBLANK('Plan comptable'!A18),"",'Plan comptable'!A18) -> Conférences et congrès | C23: =IF(ISBLANK(Budget!E24),"",Budget!E24) -> 1000 | E23: =SUMIF(Écritures!B$6:B$172,'Plan comptable'!C18,Écritures!E$6:E$172) -> 1254.32
A24: =IF(ISBLANK('Plan comptable'!A19),"",'Plan comptable'!A19) -> Fournitures de bureau | C24: =IF(ISBLANK(Budget!E25),"",Budget!E25) -> 0 | E24: =SUMIF(Écritures!B$6:B$172,'Plan comptable'!C19,Écritures!E$6:E$172) -> 0
A25: =IF(ISBLANK('Plan comptable'!A20),"",'Plan comptable'!A20) -> Frais de déplacement | C25: =IF(ISBLANK(Budget!E26),"",Budget!E26) -> 300 | E25: =SUMIF(Écritures!B$6:B$172,'Plan comptable'!C20,Écritures!E$6:E$172) -> 0
A26: =IF(ISBLANK('Plan comptable'!A21),"",'Plan comptable'!A21) -> Frais de location | C26: =IF(ISBLANK(Budget!E27),"",Budget!E27) -> 500 | E26: =SUMIF(Écritures!B$6:B$172,'Plan comptable'!C21,Écritures!E$6:E$172) -> 0
A27: =IF(ISBLANK('Plan comptable'!A22),"",'Plan comptable'!A22) -> Frais d'adhésion - organismes régionaux | C27: =IF(ISBLANK(Budget!E28),"",Budget!E28) -> 0 | E27: =SUMIF(Écritures!B$6:B$172,'Plan comptable'!C22,Écritures!E$6:E$172) -> 0
A28: =IF(ISBLANK('Plan comptable'!A23),"",'Plan comptable'!A23) -> Dons | C28: 1000 | E28: =SUMIF(Écritures!B$6:B$172,'Plan comptable'!C23,Écritures!E$6:E$172) -> 1523.37
A29: =IF(ISBLANK('Plan comptable'!A24),"",'Plan comptable'!A24) -> Matériel promotionnel | C29: =IF(ISBLANK(Budget!E29),"",Budget!E29) -> 1000 | E29: =SUMIF(Écritures!B$6:B$172,'Plan comptable'!C24,Écritures!E$6:E$172) -> 339.18
A30: =IF(ISBLANK('Plan comptable'!A25),"",'Plan comptable'!A25) -> Autres dépenses | E30: =SUMIF(Écritures!B$6:B$172,'Plan comptable'!C25,Écritures!E$6:E$172) -> 560.08
A32: TOTAL DES DÉPENSES | C32: =SUM(C21:C31) -> 6000 | E32: =SUM(E21:E31) -> 4065.83
A35: BÉNÉFICE (PERTE) BRUT | C35: =C16-C32 -> 0 | E35: =E16-E32 -> -2922.46
A37: Plus
A38: Frais payés d'avance | C38: 0 | E38: =Instructions!F31 -> 0
A39: =" Dépenses effectuées en "&Année_courante-1 -> Dépenses effectuées en 2025 | C39: 0 | E39: =Écritures!E7 -> 0
A40: Moins
A41: Comptes à payer | C41: 0 | E41: =Instructions!F29 -> 0
A42: =" Frais payés en "&Année_courante-1 -> Frais payés en 2025 | C42: 0 | E42: =Écritures!E8 -> 0
A44: BÉNÉFICE (PERTE) NET | C44: =IF(ISBLANK(Instructions!D31),C35,C35+C38+C41) -> 0 | E44: =E35+E38+E39-E41-E42 -> -2922.46
B47: =IF(ISBLANK(Instructions!E4),"",Instructions!E4) -> Conseil régional de l'AFPC
B48: =IF(ISBLANK(Instructions!E6),"",Instructions!E6) -> Mauricie
B49: État de l'avoir des membres
B50: ="Pour la période du "&IF(ISBLANK(Instructions!F26),TEXT(Instructions!F8,"jj mmmmmmmmmmmmm aaaa"),TEXT(Instructions!F26,"jj mmmmmmmmmmmmmm aaaa"))&" au "&IF(ISBLANK(Instructions!F27),TEXT(Instructions!F8+(IF(DAY(EOMONTH(DATE((YEAR(Instructions!F8)),2,1),0))=29,365,364)),"jj mmmmmmmmmmmmmm aaaa"),TEXT(Instructions!F27,"jj mmmmmmmmmmmmm aaaa")) -> Pour la période du 01 janvier 2026 au 31 décembre 2026
A52: AVOIR DES MEMBRES AU DÉBUT | C52: =E52 -> 19906.04 | E52: =Instructions!F16 -> 19906.04
A53: BÉNÉFICE (PERTE) NET | C53: =C44 -> 0 | E53: =E44 -> -2922.46
A55: AVOIR DES MEMBRES À LA FIN | C55: =C52+C44 -> 19906.04 | E55: =E52+E44 -> 16983.58

Sheet Bilan
E1: =IF(ISBLANK(Instructions!E4),"",Instructions!E4) -> Conseil régional de l'AFPC
E2: =IF(ISBLANK(Instructions!E6),"",Instructions!E6) -> Mauricie
E3: =MID(CELL("nomfichier",A1),FIND("]",CELL("nomfichier",A1))+1,20) -> Bilan
E4: ="Au "&IF(ISBLANK(Instructions!F27),TEXT(Instructions!F8+(IF(DAY(EOMONTH(DATE((YEAR(Instructions!F8)),2,1),0))=29,365,364)),"jj mmmmmmmmmmmmm aaaa"),TEXT(Instructions!F27,"jj mmmmmmmmmmmmmm aaaa")) -> Au 31 décembre 2026
A9: ACTIF
B11: Encaisse | H11: =IF(Écritures!I50="",LOOKUP(9^99,Écritures!I6:I49),IF((Écritures!I91)="",LOOKUP(9^99,Écritures!I50:I90),IF((Écritures!I132)="",LOOKUP(9^99,Écritures!I91:I131),LOOKUP(9^99,Écritures!I132:I172)))) -> 16634.7
B12: Frais payés d'avance | H12: ='État des résultats'!E38 -> 0
A14: Total de l'actif | H14: =SUM(H10:H13) -> 16634.7
A18: PASSIF
B20: Comptes à payer | H20: ='État des résultats'!E41 -> 0
A22: Total du passif | H22: =SUM(H19:H21) -> 0
A26: Avoir des membres | H26: ='État des résultats'!E55 -> 16983.58
A30: Total du passif et de l'avoir des membres | H30: =H22+H26 -> 16983.58

Sheet Conciliation bancaire
E1: =IF(ISBLANK(Instructions!E4),"",Instructions!E4) -> Conseil régional de l'AFPC
E2: =IF(ISBLANK(Instructions!E6),"",Instructions!E6) -> Mauricie
E3: =MID(CELL("nomfichier",A1),FIND("]",CELL("nomfichier",A1))+1,25) -> Conciliation bancaire
E4: ="Au "&IF(ISBLANK(Instructions!F27),TEXT(Instructions!F8+(IF(DAY(EOMONTH(DATE((YEAR(Instructions!F8)),2,1),0))=29,365,364)),"jj mmmmmmmmmmmmm aaaa"),TEXT(Instructions!F27,"jj mmmmmmmmmmmmmm aaaa")) -> Au 31 décembre 2026
I6: Montant
A8: Solde sur le relevé de compte : | I8: 19906.04
A10: Chèques en circulation
A12: Date | B12: Description | F12: Numéro | G12: Montant
A22: Total des chèques en circulation : | I22: =SUM(G13:G20) -> 0
I23: =I8-I22 -> 19906.04
A25: Dépôts en circulation
A27: Date | B27: Description | F27: Numéro | G27: Montant
A33: Total des dépôts en circulation : | I33: =SUM(G28:G31) -> 0
A35: Solde aux livres : | I35: =I23+I33 -> 19906.04
A37: Solde aux livres selon la conciliation : | I37: =I35 -> 19906.04
A38: Solde aux livres selon la date : | I38: =Bilan!H11 -> 16634.7
A40: Différence : | I40: =I37-I38 -> 3271.34

Sheet Prévision Budgétaire
B1: =IF(ISBLANK(Instructions!E4),"",Instructions!E4) -> Conseil régional de l'AFPC
B2: =IF(ISBLANK(Instructions!E6),"",Instructions!E6) -> Mauricie
B3: =MID(CELL("nomfichier",A1),FIND("]",CELL("nomfichier",A1))+1,20)&" "&YEAR(Instructions!F8)+1 -> Prévision Budgétaire 2027
C8: =D8-1 -> 2025 | D8: =E8-1 -> 2026 | E8: =Année_courante+1 -> 2027
C9: BUDGET | D9: BUDGET | E9: BUDGET
A10: REVENUS
A12: =IF(ISBLANK('Plan comptable'!A11),"",'Plan comptable'!A11) -> Financement régulier - AFPC-Québec | C12: 5000 | D12: 5000
A13: =IF(ISBLANK('Plan comptable'!A12),"",'Plan comptable'!A12) -> Intérêt Banque | C13: 1000 | D13: 1000
A14: =IF(ISBLANK('Plan comptable'!A13),"",'Plan comptable'!A13) -> Autres revenus
A15: =IF(ISBLANK('Plan comptable'!A14),"",'Plan comptable'!A14)
A17: TOTAL DES REVENUS | C17: =SUM(C12:C16) -> 6000 | D17: =SUM(D12:D16) -> 6000 | E17: =SUM(E12:E16) -> 0
A20: DÉPENSES
A22: =IF(ISBLANK('Plan comptable'!A16),"",'Plan comptable'!A16) -> Dépenses réunions | C22: 1000 | D22: 1250
A23: =IF(ISBLANK('Plan comptable'!A17),"",'Plan comptable'!A17) -> Action politique | C23: 1000 | D23: 950
A24: =IF(ISBLANK('Plan comptable'!A18),"",'Plan comptable'!A18) -> Conférences et congrès | C24: 400 | D24: 1000
A25: =IF(ISBLANK('Plan comptable'!A19),"",'Plan comptable'!A19) -> Fournitures de bureau | C25: 350 | D25: 0
A26: =IF(ISBLANK('Plan comptable'!A20),"",'Plan comptable'!A20) -> Frais de déplacement | C26: 400 | D26: 300
A27: =IF(ISBLANK('Plan comptable'!A21),"",'Plan comptable'!A21) -> Frais de location | C27: 400 | D27: 500
A28: =IF(ISBLANK('Plan comptable'!A22),"",'Plan comptable'!A22) -> Frais d'adhésion - organismes régionaux | D28: 0
A29: =IF(ISBLANK('Plan comptable'!A23),"",'Plan comptable'!A23) -> Dons | D29: 1000
A30: =IF(ISBLANK('Plan comptable'!A24),"",'Plan comptable'!A24) -> Matériel promotionnel | C30: 300 | D30: 1000
A31: =IF(ISBLANK('Plan comptable'!A25),"",'Plan comptable'!A25) -> Autres dépenses | C31: 1000 | D31: 0
A32: =IF(ISBLANK('Plan comptable'!A28),"",'Plan comptable'!A28)
A34: TOTAL DES DÉPENSES | C34: =SUM(C22:C33) -> 4850 | D34: =SUM(D22:D33) -> 6000 | E34: =SUM(E22:E33) -> 0
A37: BÉNÉFICE (PERTE) NET | C37: =C17-C34 -> 1150 | D37: =D17-D34 -> 0 | E37: =E17-E34 -> 0

Sheet Plan comptable
B1: =IF(ISBLANK(Instructions!E4),"",Instructions!E4) -> Conseil régional de l'AFPC
B2: =IF(ISBLANK(Instructions!E6),"",Instructions!E6) -> Mauricie
B3: =MID(CELL("nomfichier",A1),FIND("]",CELL("nomfichier",A1))+1,20) -> Plan comptable
A10: REVENUS
A11: Financement régulier - AFPC-Québec | C11: 110
A12: Intérêt Banque | C12: 111
A13: Autres revenus | C13: 112
A15: DÉPENSES
A16: Dépenses réunions | C16: 210
A17: Action politique | C17: 211
A18: Conférences et congrès | C18: 212
A19: Fournitures de bureau | C19: 213
A20: Frais de déplacement | C20: 214
A21: Frais de location | C21: 215
A22: Frais d'adhésion - organismes régionaux | C22: 216
A23: Dons | C23: 217
A24: Matériel promotionnel | C24: 218
A25: Autres dépenses | C25: 219
